BEGIN:VCALENDAR
VERSION:2.0
PRODID:-//Global Peace 360 - ECPv6.15.19//NONSGML v1.0//EN
CALSCALE:GREGORIAN
METHOD:PUBLISH
X-ORIGINAL-URL:https://peacefilmfest.org
X-WR-CALDESC:Events for Global Peace 360
REFRESH-INTERVAL;VALUE=DURATION:PT1H
X-Robots-Tag:noindex
X-PUBLISHED-TTL:PT1H
BEGIN:VTIMEZONE
TZID:UTC
BEGIN:STANDARD
TZOFFSETFROM:+0000
TZOFFSETTO:+0000
TZNAME:UTC
DTSTART:20240101T000000
END:STANDARD
END:VTIMEZONE
BEGIN:VEVENT
DTSTART;TZID=UTC:20250115T080000
DTEND;TZID=UTC:20250115T170000
DTSTAMP:20260422T052059
CREATED:20250101T141651Z
LAST-MODIFIED:20260326T203519Z
UID:10000079-1736928000-1736960400@peacefilmfest.org
SUMMARY:Indie Lens Pop-Up The Librarians 4/23/26
DESCRIPTION:Documentary Film + Community Conversation\nIndie Lens Pop-Up—presented by ITVS and inspired by PBS’s Independent Lens—is public media’s leading showcase of independent documentaries\, paired with live\, local conversations that strengthen community connection. Join us for monthly screenings and facilitated dialogue designed to help neighbors engage thoughtfully with today’s most pressing civic and cultural issues. \nWhen: Monthly\, January–May (dates vary by film/venue)Cost: Free and open to the public Presented by: ITVS Sponsored in part by: Larimer & Co. Branding Studios • Cicero Studios Animation \n2026 Season Schedule\n(Click each title to watch the official trailer.) \nAPRIL\nThu\, Apr 23 — 6:00 p.m. | Winter Park Library — 1052 W Morse Blvd\, Winter Park\, FL 32789The LibrariansRun Time: 90 min Synopsis: As book challenges surge nationwide\, librarians and community members navigate the front lines of collection review\, public pressure\, and policy battles—revealing what’s at stake for education\, civic life\, and the freedom to read. \nMAY\nThu\, May 28 — 6:00 p.m. | Credo Conduit — 1001 N Orange Ave\, Orlando\, FL 32801The Grocery List ShowRun Time: 5 episodes × 10 minutes (approx. 50 min total content)Synopsis: Hosted by Top Chef contender Chrissy Camba\, The Grocery List Show is a trip to five bustling international grocery stores in America and the communities they serve. Special guests and food enthusiasts join Chrissy to shop for ingredients and cook a favorite family recipe\, as they celebrate global food traditions over a shared meal. \nMARCH\nTue\, Mar 10 — 6:00 p.m. | Winter Park Library — 1052 W Morse Blvd\, Winter Park\, FL 32789The InquisitorRun Time: 90 min Synopsis: A powerful portrait of Barbara Jordan—her meteoric rise\, moral clarity\, and lasting civic legacy—while also examining the private dimensions of identity and sacrifice that shaped her life behind the podium. \nThurs\, Mar 26 — 6:00 p.m. | Credo Conduit — 1001 N Orange Ave\, Orlando\, FL 32801The Tallest DwarfRun Time: 90 min Synopsis: The Tallest Dwarf follows filmmaker Julie Wyman as she searches for her place in the little people community and unpacks dwarfism’s impact on her own family. Through intimate stories\, creative collaborations\, and archival history\, the film delves into identity and medicine\, asking whether society should change people—or the structures that limit them.
URL:https://peacefilmfest.org/movie/itvs-indie-lens-pop-up/
CATEGORIES:IndieLens Pop-Up Series,Programs
ATTACH;FMTTYPE=image/jpeg:https://peacefilmfest.org/2024/wp-content/uploads/2026/01/LIBRARIANS_Thumbnail_1920x1080_2.jpg
END:VEVENT
END:VCALENDAR