BEGIN:VCALENDAR
VERSION:2.0
PRODID:-//Global Peace 360 - ECPv6.15.19//NONSGML v1.0//EN
CALSCALE:GREGORIAN
METHOD:PUBLISH
X-ORIGINAL-URL:https://peacefilmfest.org
X-WR-CALDESC:Events for Global Peace 360
REFRESH-INTERVAL;VALUE=DURATION:PT1H
X-Robots-Tag:noindex
X-PUBLISHED-TTL:PT1H
BEGIN:VTIMEZONE
TZID:UTC
BEGIN:STANDARD
TZOFFSETFROM:+0000
TZOFFSETTO:+0000
TZNAME:UTC
DTSTART:20240101T000000
END:STANDARD
END:VTIMEZONE
BEGIN:VEVENT
DTSTART;TZID=UTC:20250311T080000
DTEND;TZID=UTC:20250311T170000
DTSTAMP:20260422T012508
CREATED:20250312T000033Z
LAST-MODIFIED:20250410T214851Z
UID:10000087-1741680000-1741712400@peacefilmfest.org
SUMMARY:We Want the Funk: The History of Funk Music
DESCRIPTION:WE WANT THE FUNK! is a syncopated voyage through the history of funk music\, spanning from African\, soul\, and early jazz roots\, to its rise into the public consciousness. Featuring James Brown’s dynamism\, the extraterrestrial funk of George Clinton’s Parliament Funkadelic\, transformed girl group Labelle\, and Fela Kuti’s Afrobeat\, the story also traces funk’s influences on both new wave and hip-hop.
URL:https://peacefilmfest.org/movie/we-want-the-funk-the-history-of-funk-music_test/
CATEGORIES:IndieLens Pop-Up Series
ATTACH;FMTTYPE=image/jpeg:https://peacefilmfest.org/2024/wp-content/uploads/2025/03/WEWANTFUNK.jpg
END:VEVENT
END:VCALENDAR