BEGIN:VCALENDAR
VERSION:2.0
PRODID:-//Global Peace 360 - ECPv6.15.19//NONSGML v1.0//EN
CALSCALE:GREGORIAN
METHOD:PUBLISH
X-WR-CALNAME:Global Peace 360
X-ORIGINAL-URL:https://peacefilmfest.org
X-WR-CALDESC:Events for Global Peace 360
REFRESH-INTERVAL;VALUE=DURATION:PT1H
X-Robots-Tag:noindex
X-PUBLISHED-TTL:PT1H
BEGIN:VTIMEZONE
TZID:UTC
BEGIN:STANDARD
TZOFFSETFROM:+0000
TZOFFSETTO:+0000
TZNAME:UTC
DTSTART:20240101T000000
END:STANDARD
END:VTIMEZONE
BEGIN:VEVENT
DTSTART;TZID=UTC:20250416T183000
DTEND;TZID=UTC:20250416T200000
DTSTAMP:20260421T233313
CREATED:20240829T151251Z
LAST-MODIFIED:20250419T192929Z
UID:10000051-1744828200-1744833600@peacefilmfest.org
SUMMARY:Home Court
DESCRIPTION:Home Court is the coming-of-age story of Ashley Chea\, a Cambodian American basketball prodigy in Southern California whose life intensifies as recruitment heats up. As she overcomes injury as well as racial and class differences between her home and private school worlds\, in peer groups\, and against rival schools\, Ashley strives to become her own person and leave a legacy behind.
URL:https://peacefilmfest.org/movie/home-court/
CATEGORIES:IndieLens Pop-Up Series
ATTACH;FMTTYPE=image/jpeg:https://peacefilmfest.org/2024/wp-content/uploads/2024/08/HOMECOURT.jpg
END:VEVENT
END:VCALENDAR