BEGIN:VCALENDAR
VERSION:2.0
PRODID:-//Global Peace 360 - ECPv6.15.19//NONSGML v1.0//EN
CALSCALE:GREGORIAN
METHOD:PUBLISH
X-ORIGINAL-URL:https://peacefilmfest.org
X-WR-CALDESC:Events for Global Peace 360
REFRESH-INTERVAL;VALUE=DURATION:PT1H
X-Robots-Tag:noindex
X-PUBLISHED-TTL:PT1H
BEGIN:VTIMEZONE
TZID:America/New_York
BEGIN:DAYLIGHT
TZOFFSETFROM:-0500
TZOFFSETTO:-0400
TZNAME:EDT
DTSTART:20230312T070000
END:DAYLIGHT
BEGIN:STANDARD
TZOFFSETFROM:-0400
TZOFFSETTO:-0500
TZNAME:EST
DTSTART:20231105T060000
END:STANDARD
BEGIN:DAYLIGHT
TZOFFSETFROM:-0500
TZOFFSETTO:-0400
TZNAME:EDT
DTSTART:20240310T070000
END:DAYLIGHT
BEGIN:STANDARD
TZOFFSETFROM:-0400
TZOFFSETTO:-0500
TZNAME:EST
DTSTART:20241103T060000
END:STANDARD
BEGIN:DAYLIGHT
TZOFFSETFROM:-0500
TZOFFSETTO:-0400
TZNAME:EDT
DTSTART:20250309T070000
END:DAYLIGHT
BEGIN:STANDARD
TZOFFSETFROM:-0400
TZOFFSETTO:-0500
TZNAME:EST
DTSTART:20251102T060000
END:STANDARD
END:VTIMEZONE
BEGIN:VEVENT
DTSTART;TZID=America/New_York:20241002T183000
DTEND;TZID=America/New_York:20241002T203000
DTSTAMP:20260423T160756
CREATED:20240829T150823Z
LAST-MODIFIED:20251015T174542Z
UID:10000048-1727893800-1727901000@peacefilmfest.org
SUMMARY:E.T. the Extra-Terrestrial
DESCRIPTION:After a gentle alien becomes stranded on Earth\, the being is discovered and befriended by a young boy named Elliott (Henry Thomas). Bringing the extraterrestrial into his suburban California house\, Elliott introduces E.T.\, as the alien is dubbed\, to his brother and his little sister\, Gertie (Drew Barrymore)\, and the children decide to keep its existence a secret. Soon\, however\, E.T. falls ill\, resulting in government intervention and a dire situation for both Elliott and the alien.
URL:https://peacefilmfest.org/movie/e-t-the-extra-terrestrial/
CATEGORIES:Kaleidoscope
ATTACH;FMTTYPE=image/jpeg:https://peacefilmfest.org/2024/wp-content/uploads/2024/08/1_E.T.jpg
END:VEVENT
END:VCALENDAR