BEGIN:VCALENDAR
VERSION:2.0
PRODID:-//Global Peace 360 - ECPv6.15.19//NONSGML v1.0//EN
CALSCALE:GREGORIAN
METHOD:PUBLISH
X-ORIGINAL-URL:https://peacefilmfest.org
X-WR-CALDESC:Events for Global Peace 360
REFRESH-INTERVAL;VALUE=DURATION:PT1H
X-Robots-Tag:noindex
X-PUBLISHED-TTL:PT1H
BEGIN:VTIMEZONE
TZID:UTC
BEGIN:STANDARD
TZOFFSETFROM:+0000
TZOFFSETTO:+0000
TZNAME:UTC
DTSTART:20240101T000000
END:STANDARD
END:VTIMEZONE
BEGIN:VEVENT
DTSTART;TZID=UTC:20251203T190000
DTEND;TZID=UTC:20251203T203000
DTSTAMP:20260425T161618
CREATED:20251002T182353Z
LAST-MODIFIED:20260111T001415Z
UID:10000093-1764788400-1764793800@peacefilmfest.org
SUMMARY:A Christmas Story
DESCRIPTION:A Christmas Story is a 1983 Christmas comedy film directed by Bob Clark and based on the 1966 book In God We Trust: All Others Pay Cash by Jean Shepherd\, with some elements from his 1971 book Wanda Hickey’s Night of Golden Memories and Other Disasters. It stars Melinda Dillon\, Darren McGavin\, and Peter Billingsley\, and follows a young boy and his family’s misadventures during Christmas time in December 1940. It is the third installment in the Parker Family Saga. \nA Christmas Story was released on November 18\, 1983\, and received positive reviews from critics. Filmed partly in Canada\, the film earned two Canadian Genie Awards in 1984. Widely considered a holiday classic in the United States and Canada\, it has been shown in a marathon annually on TNT since 1997 and on TBS since 2004 titled “24 Hours of A Christmas Story“\, consisting of 12 consecutive airings of the film from the evening of Christmas Eve to the evening of Christmas Day.[3] In 2012\, it was selected for preservation in the United States National Film Registry by the Library of Congress for being “culturally\, historically\, or aesthetically significant”. \nKaleidoscope 360° is produced by Global Peace 360° and is presented by Orlando Downtown Development Board and Orlando Health Orlando Regional Medical Center\, and is funded in-part by Creative Village Development\, LLC.\, Larimer & Co. Branding Studios\, The Julian Apartments\, UnionWest Student Living\, and Cicero Studios. \nThis event is free to the general public.
URL:https://peacefilmfest.org/movie/a-christmas-story/
CATEGORIES:Kaleidoscope
ATTACH;FMTTYPE=image/jpeg:https://peacefilmfest.org/2024/wp-content/uploads/2025/10/A-Christmas-Story-2.jpg
END:VEVENT
BEGIN:VEVENT
DTSTART;VALUE=DATE:20250916
DTEND;VALUE=DATE:20250922
DTSTAMP:20260425T161618
CREATED:20250729T205125Z
LAST-MODIFIED:20251002T185542Z
UID:10000090-1757980800-1758499199@peacefilmfest.org
SUMMARY:Global Peace Film Festival
DESCRIPTION:PURCHASE TICKETS \nThis year’s Global Peace Film Festival invites you to experience stories that illuminate hope\, spark imagination\, and open new pathways for change. From visionary filmmakers across the globe to bold local voices\, our 2025 lineup showcases the power of film to transform hearts\, minds\, and communities. Join us for an unforgettable season of screenings\, conversations\, and cultural events that challenge the status quo and celebrate the beauty of what’s possible. \nCLICK HERE to view our schedule and film guide and to purchase tickets. \nGLOBAL PEACE FILM FESTIVAL | Sept. 16-21 | Orlando | Winter Park | Maitland \nFREE FOR ALL SHORTS | Sept. 22-28 | Online
URL:https://peacefilmfest.org/movie/global-peace-film-festival-2/
LOCATION:Enzian Theater\, 1300 South Orlando Avenue\, Maitland\, 32751\, United States
CATEGORIES:Film Festivals
ATTACH;FMTTYPE=image/jpeg:https://peacefilmfest.org/2024/wp-content/uploads/2025/06/Hero-Image-Blue@2x.jpg
END:VEVENT
END:VCALENDAR